BEGIN:VCALENDAR
VERSION:2.0
PRODID:-//Intand Corporation//Tandem//EN
METHOD:PUBLISH
BEGIN:VEVENT
DTSTAMP:20260425T202431Z
DTSTART:20251105T180000Z
DTEND:20251105T190000Z
TRANSP:TRANSPARENT
PRIORITY:0
SUMMARY:JV/Varsity Basketball Conditioning
LOCATION:Providence Christian School\, PCS Field House
DESCRIPTION:Groups:\nAdmin Calendar (Home)\nPCS Facilities  (Home)\nBasket
 ball PCS  (Home)\nBasketball Practice  (Home)\n\nSchools:\nProvidence Chri
 stian School (Neutral)\n\nLocations:\nProvidence Christian School\nPCS Fie
 ld House\n\n
URL;VALUE=URI:https://providencechristian.tandem.co/index.php?type=view&ac
 tion=event&id=986
CREATED:20251008T194807Z
LAST-MODIFIED:20251008T194807Z
UID:event-986-providencechristian@intand.com
END:VEVENT
END:VCALENDAR
