BEGIN:VCALENDAR
VERSION:2.0
PRODID:-//Intand Corporation//Tandem//EN
METHOD:PUBLISH
BEGIN:VEVENT
DTSTAMP:20260425T202427Z
DTSTART:20251118T213000Z
DTEND:20251118T223000Z
TRANSP:TRANSPARENT
PRIORITY:0
SUMMARY:Basketball JV Girls @ Holmes County 
LOCATION:HOLMES COUNTY HIGH SCHOOL
DESCRIPTION:Groups:\nBasketball JV Girls (Away)\nAdmin Calendar (Away)\nBa
 sketball PCS  (Away)\n\nSchools:\nHOLMES COUNTY HIGH SCHOOL (Away)\nProvid
 ence Christian School (Neutral)\n\nEarly Dismissal:\nHOLMES COUNTY HIGH SC
 HOOL: \nProvidence Christian School: \n\nLocation:\nHOLMES COUNTY HIGH SCH
 OOL\n\n
URL;VALUE=URI:https://providencechristian.tandem.co/index.php?type=view&ac
 tion=event&id=581
CREATED:20250909T161854Z
LAST-MODIFIED:20251117T143340Z
UID:event-581-providencechristian@intand.com
END:VEVENT
END:VCALENDAR
