BEGIN:VCALENDAR
VERSION:2.0
PRODID:-//Intand Corporation//Tandem//EN
METHOD:PUBLISH
BEGIN:VEVENT
DTSTAMP:20260425T202518Z
DTSTART:20251111T220000Z
DTEND:20251111T230000Z
TRANSP:TRANSPARENT
PRIORITY:0
SUMMARY:Basketball 7th Grade Boys vs NMA 
LOCATION:Providence Christian School\, PCS Gym
DESCRIPTION:Groups:\nPCS Facilities  (Neutral)\nPCS Sports (Home)\nBasketb
 all PCS  (Home)\nBasketball Boys 7th Grade  (Home)\nAdmin Calendar (Home)\
 n\nSchools:\nProvidence Christian School (Neutral)\n\nLocations:\nProviden
 ce Christian School\nPCS Gym\n\n
URL;VALUE=URI:https://providencechristian.tandem.co/index.php?type=view&ac
 tion=event&id=561
CREATED:20250908T145951Z
LAST-MODIFIED:20250908T190903Z
UID:event-561-providencechristian@intand.com
END:VEVENT
END:VCALENDAR
