BEGIN:VCALENDAR
VERSION:2.0
PRODID:-//Intand Corporation//Tandem//EN
METHOD:PUBLISH
BEGIN:VEVENT
DTSTAMP:20260425T202519Z
DTSTART:20251030T223000Z
DTEND:20251030T233000Z
TRANSP:TRANSPARENT
PRIORITY:0
SUMMARY:Basketball JH Boys vs South Dale 
LOCATION:Providence Christian School\, PCS Gym
DESCRIPTION:Groups:\nPCS Sports (Home)\nPCS Facilities  (Home)\nBasketball
  PCS  (Home)\nBasketball JH Boys  (Home)\nAdmin Calendar (Home)\n\nSchools
 :\nProvidence Christian School (Neutral)\n\nLocations:\nProvidence Christi
 an School\nPCS Gym\n\n
URL;VALUE=URI:https://providencechristian.tandem.co/index.php?type=view&ac
 tion=event&id=540
CREATED:20250908T160505Z
LAST-MODIFIED:20250908T160505Z
UID:event-540-providencechristian@intand.com
END:VEVENT
END:VCALENDAR
