BEGIN:VCALENDAR
VERSION:2.0
PRODID:-//Intand Corporation//Tandem//EN
METHOD:PUBLISH
BEGIN:VEVENT
DTSTAMP:20260425T202448Z
DTSTART:20251205T000000Z
DTEND:20251205T010000Z
TRANSP:TRANSPARENT
PRIORITY:0
SUMMARY:Christmas Celebration 
LOCATION:Providence Christian School\, PCS Gym
DESCRIPTION:Groups:\nAdmin Calendar\nPCS Facilities \nPCS Fine Arts \nPCS 
 Logic & Rhetoric Fine Arts \n\nSchools:\nProvidence Christian School\n\nLo
 cations:\nProvidence Christian School\nPCS Gym\n\n
URL;VALUE=URI:https://providencechristian.tandem.co/index.php?type=view&ac
 tion=event&id=497
CREATED:20250904T132455Z
LAST-MODIFIED:20251029T152047Z
UID:event-497-providencechristian@intand.com
END:VEVENT
END:VCALENDAR
