BEGIN:VCALENDAR
VERSION:2.0
PRODID:-//Intand Corporation//Tandem//EN
METHOD:PUBLISH
BEGIN:VEVENT
DTSTAMP:20260425T202446Z
DTSTART:20251119T145500Z
DTEND:20251119T151500Z
TRANSP:TRANSPARENT
PRIORITY:0
SUMMARY:L & R House Meeting
LOCATION:Providence Christian School
DESCRIPTION:Groups:\nLogic Students \nRhetoric Students \nAdmin Calendar\n
 \nSchools:\nProvidence Christian School\n\nLocation:\nProvidence Christian
  School\n\n
URL;VALUE=URI:https://providencechristian.tandem.co/index.php?type=view&ac
 tion=event&id=383
CREATED:20250828T145102Z
LAST-MODIFIED:20250828T145102Z
UID:event-383-providencechristian@intand.com
END:VEVENT
END:VCALENDAR
