BEGIN:VCALENDAR
VERSION:2.0
PRODID:-//Intand Corporation//Tandem//EN
METHOD:PUBLISH
BEGIN:VEVENT
DTSTAMP:20260425T202035Z
DTSTART:20260516T170000Z
DTEND:20260516T190000Z
TRANSP:TRANSPARENT
PRIORITY:0
SUMMARY:Volleyball Practice 
LOCATION:PCS Gym
DESCRIPTION:Groups:\nAdmin Calendar\nPCS Facilities \n\nSchools:\nProviden
 ce Christian School\n\nLocation:\nPCS Gym\n\n
URL;VALUE=URI:https://providencechristian.tandem.co/index.php?type=view&ac
 tion=event&id=2388
CREATED:20260414T224101Z
LAST-MODIFIED:20260414T224101Z
UID:event-2388-providencechristian@intand.com
END:VEVENT
END:VCALENDAR
