BEGIN:VCALENDAR
VERSION:2.0
PRODID:-//Intand Corporation//Tandem//EN
METHOD:PUBLISH
BEGIN:VEVENT
DTSTAMP:20260425T201928Z
DTSTART:20260505T183000Z
DTEND:20260505T193000Z
TRANSP:TRANSPARENT
PRIORITY:0
SUMMARY:Athletic Signing
LOCATION:PCS Gym
DESCRIPTION:Groups:\nAdmin Calendar\nPCS Facilities \n\nSchools:\nProviden
 ce Christian School\n\nLocation:\nPCS Gym\n\n
URL;VALUE=URI:https://providencechristian.tandem.co/index.php?type=view&ac
 tion=event&id=2387
CREATED:20260414T150546Z
LAST-MODIFIED:20260420T191842Z
UID:event-2387-providencechristian@intand.com
END:VEVENT
END:VCALENDAR
