BEGIN:VCALENDAR
VERSION:2.0
PRODID:-//Intand Corporation//Tandem//EN
METHOD:PUBLISH
BEGIN:VEVENT
DTSTAMP:20260425T201849Z
DTSTART:20260507T203000Z
DTEND:20260507T221500Z
TRANSP:TRANSPARENT
PRIORITY:0
SUMMARY:6th & 7th Grade Boys Basketball Tryouts 
LOCATION:PCS Gym
DESCRIPTION:Groups:\nAdmin Calendar\nPCS Facilities \nBasketball Boys 7th 
 Grade \nBasketball PCS \n\nSchools:\nProvidence Christian School\n\nLocati
 on:\nPCS Gym\n\n
URL;VALUE=URI:https://providencechristian.tandem.co/index.php?type=view&ac
 tion=event&id=2371
CREATED:20260414T132324Z
LAST-MODIFIED:20260414T224508Z
UID:event-2371-providencechristian@intand.com
END:VEVENT
END:VCALENDAR
