BEGIN:VCALENDAR
VERSION:2.0
PRODID:-//Intand Corporation//Tandem//EN
METHOD:PUBLISH
BEGIN:VEVENT
DTSTAMP:20260425T201928Z
DTSTART:20260520T150000Z
DTEND:20260520T170000Z
TRANSP:TRANSPARENT
PRIORITY:0
SUMMARY:Mission Trip Training & Lunch
LOCATION:PCS Gym
DESCRIPTION:Groups:\nAdmin Calendar\nPCS Seniors\n\nSchools:\nProvidence C
 hristian School\n\nLocation:\nPCS Gym\n\n
URL;VALUE=URI:https://providencechristian.tandem.co/index.php?type=view&ac
 tion=event&id=2341
CREATED:20260410T160918Z
LAST-MODIFIED:20260410T162844Z
UID:event_request-2341-providencechristian@intand.com
END:VEVENT
END:VCALENDAR
