BEGIN:VCALENDAR
VERSION:2.0
PRODID:-//Intand Corporation//Tandem//EN
METHOD:PUBLISH
BEGIN:VEVENT
DTSTAMP:20260425T171115Z
DTSTART:20260414T223000Z
DTEND:20260415T003000Z
TRANSP:TRANSPARENT
PRIORITY:0
SUMMARY:Soccer Varsity Girls @ New Brockton 
LOCATION:New Brockton High School
DESCRIPTION:Groups:\nAdmin Calendar\nSoccer Varsity Girls \nPCS Soccer\n\n
 Schools:\nProvidence Christian School\n\nLocation:\nNew Brockton High Scho
 ol\n\n
URL;VALUE=URI:https://providencechristian.tandem.co/index.php?type=view&ac
 tion=event&id=2333
CREATED:20260410T132827Z
LAST-MODIFIED:20260410T132827Z
UID:event-2333-providencechristian@intand.com
END:VEVENT
END:VCALENDAR
