BEGIN:VCALENDAR
VERSION:2.0
PRODID:-//Intand Corporation//Tandem//EN
METHOD:PUBLISH
BEGIN:VEVENT
DTSTAMP:20260425T203111Z
DTSTART:20270318T150000Z
DTEND:20270319T020000Z
TRANSP:TRANSPARENT
PRIORITY:0
SUMMARY:L/R Play
LOCATION:Cultural Arts Center
DESCRIPTION:Groups:\nAdmin Calendar\nPCS Fine Arts \nPCS Logic & Rhetoric 
 Fine Arts \n\nSchools:\nProvidence Christian School\n\nLocation:\nCultural
  Arts Center\n\n
URL;VALUE=URI:https://providencechristian.tandem.co/index.php?type=view&ac
 tion=event&id=2321
CREATED:20260409T163306Z
LAST-MODIFIED:20260410T131617Z
UID:event_request-2321-providencechristian@intand.com
END:VEVENT
END:VCALENDAR
