BEGIN:VCALENDAR
VERSION:2.0
PRODID:-//Intand Corporation//Tandem//EN
METHOD:PUBLISH
BEGIN:VEVENT
DTSTAMP:20260425T171155Z
DTSTART:20260410T203000Z
DTEND:20260410T213000Z
TRANSP:TRANSPARENT
PRIORITY:0
SUMMARY:Cheer Practice 
LOCATION:Providence Christian School\, PCS Gym
DESCRIPTION:Groups:\nCheer \nAdmin Calendar\nPCS Facilities \n\nSchools:\n
 Providence Christian School\n\nLocations:\nProvidence Christian School\nPC
 S Gym\n\n
URL;VALUE=URI:https://providencechristian.tandem.co/index.php?type=view&ac
 tion=event&id=2306
CREATED:20260408T184821Z
LAST-MODIFIED:20260408T184821Z
UID:event-2306-providencechristian@intand.com
END:VEVENT
END:VCALENDAR
