BEGIN:VCALENDAR
VERSION:2.0
PRODID:-//Intand Corporation//Tandem//EN
METHOD:PUBLISH
BEGIN:VEVENT
DTSTAMP:20260425T172041Z
DTSTART:20260407T193500Z
DTEND:20260407T202000Z
TRANSP:TRANSPARENT
PRIORITY:0
SUMMARY:Volare Dance Lessons
LOCATION:PCS Gym
DESCRIPTION:Junior and Seniors\n\n\nGroups:\nRhetoric Students \nAdmin Cal
 endar\nPCS Facilities \n\nSchools:\nProvidence Christian School\n\nLocatio
 n:\nPCS Gym\n\n
URL;VALUE=URI:https://providencechristian.tandem.co/index.php?type=view&ac
 tion=event&id=2104
CREATED:20260318T145707Z
LAST-MODIFIED:20260318T150111Z
UID:event_request-2104-providencechristian@intand.com
END:VEVENT
END:VCALENDAR
