BEGIN:VCALENDAR
VERSION:2.0
PRODID:-//Intand Corporation//Tandem//EN
METHOD:PUBLISH
BEGIN:VEVENT
DTSTAMP:20260425T171134Z
DTSTART:20260417T223000Z
DTEND:20260417T233000Z
TRANSP:TRANSPARENT
PRIORITY:0
SUMMARY:JVG Soccer @ Ariton 
LOCATION:Ariton High School
DESCRIPTION:Groups:\nAdmin Calendar (Away)\nSoccer JV Girls  (Away)\n\nSch
 ools:\nProvidence Christian School (Away)\n\nEarly Dismissal:\nProvidence 
 Christian School: \n\nLocation:\nAriton High School\n\n
URL;VALUE=URI:https://providencechristian.tandem.co/index.php?type=view&ac
 tion=event&id=2073
CREATED:20260312T145445Z
LAST-MODIFIED:20260312T145445Z
UID:event-2073-providencechristian@intand.com
END:VEVENT
END:VCALENDAR
