BEGIN:VCALENDAR
VERSION:2.0
PRODID:-//Intand Corporation//Tandem//EN
METHOD:PUBLISH
BEGIN:VEVENT
DTSTAMP:20260425T215752Z
DTSTART:20260727T203000Z
DTEND:20260727T220000Z
TRANSP:TRANSPARENT
PRIORITY:0
SUMMARY:JV Volleyball Summer Work Outs 
LOCATION:PCS Gym
DESCRIPTION:Groups:\nAdmin Calendar\nPCS Facilities \nVolleyball JV\nVolle
 yball Practice\n\nSchools:\nProvidence Christian School\n\nLocation:\nPCS 
 Gym\n\n
URL;VALUE=URI:https://providencechristian.tandem.co/index.php?type=view&ac
 tion=event&id=2063
CREATED:20260311T204013Z
LAST-MODIFIED:20260311T204013Z
UID:event-2063-providencechristian@intand.com
END:VEVENT
END:VCALENDAR
