BEGIN:VCALENDAR
VERSION:2.0
PRODID:-//Intand Corporation//Tandem//EN
METHOD:PUBLISH
BEGIN:VEVENT
DTSTAMP:20260425T202012Z
DTSTART:20260612T120000Z
DTEND:20260612T160000Z
TRANSP:TRANSPARENT
PRIORITY:0
SUMMARY:Boys Basketball Practice 
LOCATION:Providence Christian School\, PCS Gym
DESCRIPTION:Groups:\nAdmin Calendar\nPCS Facilities \n\nSchools:\nProviden
 ce Christian School\n\nLocations:\nProvidence Christian School\nPCS Gym\n\
 n
URL;VALUE=URI:https://providencechristian.tandem.co/index.php?type=view&ac
 tion=event&id=1957
CREATED:20260309T154905Z
LAST-MODIFIED:20260402T171130Z
UID:event-1957-providencechristian@intand.com
END:VEVENT
END:VCALENDAR
