BEGIN:VCALENDAR
VERSION:2.0
PRODID:-//Intand Corporation//Tandem//EN
METHOD:PUBLISH
BEGIN:VEVENT
DTSTAMP:20260425T171156Z
DTSTART:20260429T184000Z
DTEND:20260429T202000Z
TRANSP:TRANSPARENT
PRIORITY:0
SUMMARY:Mission Trip Training
LOCATION:PCS Gym
DESCRIPTION:Groups:\nAdmin Calendar\nPCS Seniors\n\nSchools:\nProvidence C
 hristian School\n\nLocation:\nPCS Gym\n\n
URL;VALUE=URI:https://providencechristian.tandem.co/index.php?type=view&ac
 tion=event&id=1931
CREATED:20260305T193156Z
LAST-MODIFIED:20260306T142058Z
UID:event_request-1931-providencechristian@intand.com
END:VEVENT
END:VCALENDAR
