BEGIN:VCALENDAR
VERSION:2.0
PRODID:-//Intand Corporation//Tandem//EN
METHOD:PUBLISH
BEGIN:VEVENT
DTSTAMP:20260425T173709Z
DTSTART:20260414T203000Z
DTEND:20260415T000000Z
TRANSP:TRANSPARENT
PRIORITY:0
SUMMARY:Varsity Track & Field @ Wildcat Classic (Enterprise)
LOCATION:ENTERPRISE HIGH SCHOOL
DESCRIPTION:Groups:\nAdmin Calendar (Away)\nOutdoor Track and Field  (Away
 )\n\nSchools:\nENTERPRISE HIGH SCHOOL (Away)\nProvidence Christian School 
 (Away)\n\nEarly Dismissal:\nENTERPRISE HIGH SCHOOL: \nProvidence Christian
  School: \n\nLocation:\nENTERPRISE HIGH SCHOOL\n\n
URL;VALUE=URI:https://providencechristian.tandem.co/index.php?type=view&ac
 tion=event&id=1581
CREATED:20260115T143847Z
LAST-MODIFIED:20260115T143847Z
UID:event-1581-providencechristian@intand.com
END:VEVENT
END:VCALENDAR
