BEGIN:VCALENDAR
VERSION:2.0
PRODID:-//Intand Corporation//Tandem//EN
METHOD:PUBLISH
BEGIN:VEVENT
DTSTAMP:20260425T184559Z
DTSTART:20260407T170000Z
DTEND:20260407T210000Z
TRANSP:TRANSPARENT
PRIORITY:0
SUMMARY:JV Boys Golf vs Dale County 
LOCATION:RTJ Golf Trail at Highland Oaks
DESCRIPTION:Groups:\nAdmin Calendar (Away)\nGolf Boys (Away)\n\nSchools:\n
 Providence Christian School (Away)\n\nEarly Dismissal:\nProvidence Christi
 an School: \n\nLocation:\nRTJ Golf Trail at Highland Oaks\n\n
URL;VALUE=URI:https://providencechristian.tandem.co/index.php?type=view&ac
 tion=event&id=1452
CREATED:20260110T175100Z
LAST-MODIFIED:20260110T175100Z
UID:event-1452-providencechristian@intand.com
END:VEVENT
END:VCALENDAR
