BEGIN:VCALENDAR
VERSION:2.0
PRODID:-//Intand Corporation//Tandem//EN
METHOD:PUBLISH
BEGIN:VEVENT
DTSTAMP:20260425T173613Z
DTSTART:20260424T220000Z
DTEND:20260425T010000Z
TRANSP:TRANSPARENT
PRIORITY:0
SUMMARY:Softball Varsity @ Slocomb 
LOCATION:Slocomb High School
DESCRIPTION:Groups:\nAdmin Calendar (Away)\nSoftball  (Away)\nSoftball Var
 sity  (Away)\n\nSchools:\nProvidence Christian School (Away)\n\nEarly Dism
 issal:\nProvidence Christian School: \n\nLocation:\nSlocomb High School\n\
 n
URL;VALUE=URI:https://providencechristian.tandem.co/index.php?type=view&ac
 tion=event&id=1437
CREATED:20260109T190336Z
LAST-MODIFIED:20260109T190336Z
UID:event-1437-providencechristian@intand.com
END:VEVENT
END:VCALENDAR
