BEGIN:VCALENDAR
VERSION:2.0
PRODID:-//Intand Corporation//Tandem//EN
METHOD:PUBLISH
BEGIN:VEVENT
DTSTAMP:20260425T173627Z
DTSTART:20260421T220000Z
DTEND:20260422T000000Z
TRANSP:TRANSPARENT
PRIORITY:0
SUMMARY:Varsity Softball @ Geneva 
LOCATION:GENEVA COUNTY HIGH SCHOOL
DESCRIPTION:Groups:\nAdmin Calendar (Away)\nSoftball  (Away)\nSoftball Var
 sity  (Away)\n\nSchools:\nGENEVA COUNTY HIGH SCHOOL (Away)\nProvidence Chr
 istian School (Away)\n\nEarly Dismissal:\nGENEVA COUNTY HIGH SCHOOL: \nPro
 vidence Christian School: \n\nLocation:\nGENEVA COUNTY HIGH SCHOOL\n\n
URL;VALUE=URI:https://providencechristian.tandem.co/index.php?type=view&ac
 tion=event&id=1342
CREATED:20251211T192310Z
LAST-MODIFIED:20251211T192310Z
UID:event-1342-providencechristian@intand.com
END:VEVENT
END:VCALENDAR
