BEGIN:VCALENDAR
VERSION:2.0
PRODID:-//Intand Corporation//Tandem//EN
METHOD:PUBLISH
BEGIN:VEVENT
DTSTAMP:20260425T202446Z
DTSTART:20251204T140000Z
DTEND:20251204T210000Z
TRANSP:TRANSPARENT
PRIORITY:0
SUMMARY:9th -12th Grade Choir Field Trip 
LOCATION:Grand South Senior Living
DESCRIPTION:Groups:\nRhetoric Students \nAdmin Calendar\nPCS Logic & Rheto
 ric Fine Arts \n\nSchools:\nProvidence Christian School\n\nLocation:\nGran
 d South Senior Living\n\n
URL;VALUE=URI:https://providencechristian.tandem.co/index.php?type=view&ac
 tion=event&id=1087
CREATED:20251029T152552Z
LAST-MODIFIED:20251029T152552Z
UID:event-1087-providencechristian@intand.com
END:VEVENT
END:VCALENDAR
